BEGIN:VCALENDAR
VERSION:2.0
PRODID:-//BERGHAUS ISENFLUH - ECPv5.4.0.2//NONSGML v1.0//EN
CALSCALE:GREGORIAN
METHOD:PUBLISH
X-WR-CALNAME:BERGHAUS ISENFLUH
X-ORIGINAL-URL:https://berghaus-isenfluh.ch
X-WR-CALDESC:évènements pour BERGHAUS ISENFLUH
BEGIN:VTIMEZONE
TZID:Europe/Zurich
BEGIN:DAYLIGHT
TZOFFSETFROM:+0100
TZOFFSETTO:+0200
TZNAME:CEST
DTSTART:20260329T010000
END:DAYLIGHT
BEGIN:STANDARD
TZOFFSETFROM:+0200
TZOFFSETTO:+0100
TZNAME:CET
DTSTART:20261025T010000
END:STANDARD
END:VTIMEZONE
BEGIN:VEVENT
DTSTART;TZID=Europe/Zurich:20260704T160000
DTEND;TZID=Europe/Zurich:20260710T140000
DTSTAMP:20260425T221621
CREATED:20251112T180746Z
LAST-MODIFIED:20260216T105615Z
UID:10916-1783180800-1783692000@berghaus-isenfluh.ch
SUMMARY:Séjour 1 français - Olivier Favre - Les uns les autres
DESCRIPTION:Parfois dans notre vie\, y compris dans notre vie chrétienne\, il nous semble que « le problème c’est les autres » et que s’ils n’existaient pas la vie serait beaucoup plus facile. Cela a conduit bien des chrétiens à quitter les églises locales et à chercher à vivre leur foi dans le retrait et l’isolement. Pourtant\, dans la Bible il existe un mot grec qui revient près de cent fois et qui souligne l’importance capitale de la réciprocité dans les relations entre chrétiens en vue de la croissance spirituelle. C’est le mot « allèlôn » qu’on peut traduire en français par « les uns les autres ». Pendant cette semaine nous allons tenter de découvrir\, au travers de cette expression\, les bienfaits et les responsabilités de la vie communautaire à laquelle Dieu nous appelle … : l’amour\, le service\, le pardon\, l’accueil\, le soutien\, l’exhortation\, la prière etc…. \n\n\n\nOrateur – Olivier Favre \n\n\n\nOlivier et Denise Favre sont mariés depuis 43 ans. Leur couple s’est enrichi de trois garçons qui sont maintenant mariés et de … dix petits-enfants. Après 35 ans de ministère pastoral exercé en Suisse et en France\, ils sont de retour en Suisse et Olivier profite de sa « retraite » pour mettre ses dons au service des églises locales qui le sollicitent.
URL:https://berghaus-isenfluh.ch/activites/sejour-1-francais/
END:VEVENT
BEGIN:VEVENT
DTSTART;TZID=Europe/Zurich:20260711T160000
DTEND;TZID=Europe/Zurich:20260717T140000
DTSTAMP:20260425T221621
CREATED:20251112T181041Z
LAST-MODIFIED:20260216T110426Z
UID:10919-1783785600-1784296800@berghaus-isenfluh.ch
SUMMARY:Kurs 2\, in deutscher Sprache - Ansgar N. Przesang -Das Leben in der Herde Gottes
DESCRIPTION:In Matthäus 18 lehrt Jesus Christus über das Thema «Gemeinde». Es ist ein kostbares Kapitel\, das einlädt\, über Themen wie Demut\, Vorbilder\, Wertschätzung\, Hilfe für die Strauchelnden und alternativlose Vergebung nachzudenken. \n\n\n\nWie soll demgemäss die Gemeinde «funktionieren»? Welche Stellung nehme «ich» in der Gemeinde ein? Welche Rechte und Freiheiten\, Pflichten und Verantwortungen hat der einzelne? Wie verhalte ich mich\, wenn mein romantisches Gemeindebild erschüttert wird? \n\n\n\nÜber diese und weitere Fragen wollen wir gemeinsam nachdenken. Eine Bibelwoche mit viel Praxisbezug zum Gemeindeleben. Herzlich willkommen! \n\n\n\nAnsgar N. Przesang  \n\n\n\nAnsgar Przesang (1968) ist ein waschechter Berliner: fröhlich und mitunter etwas frech 😊. Mit seiner Frau Lissy hat er vier erwachsene Kinder und zwei Enkelkinder. \n\n\n\nAnsgar ist Bankkaufmann führt ein kleines Unternehmen\, das u.a. in der Lohnabrechnung für Gemeinden und christliche Werke tätig ist. Beruflich betreut er eine Softwaresuite in der Altenhilfe und dient seit Jahrzehnten im Vorstand des Bibelbundes. \n\n\n\nEr studierte neutestamentliche Theologie (M.A.) und war 17 Jahre lang Ältester in einer Berliner Gemeinde. Er predigt regelmässig in der Christlichen Gemeinde Mahlow. Er will Menschen für Gottes Wort begeistern und sie zur Weitergabe des Gelernten zu ermutigen.
URL:https://berghaus-isenfluh.ch/activites/kurs-2-in-deutscher-sprache/
END:VEVENT
BEGIN:VEVENT
DTSTART;TZID=Europe/Zurich:20260718T160000
DTEND;TZID=Europe/Zurich:20260724T140000
DTSTAMP:20260425T221621
CREATED:20251112T181137Z
LAST-MODIFIED:20260216T110309Z
UID:10922-1784390400-1784901600@berghaus-isenfluh.ch
SUMMARY:Séjour 3\, spécial Familles\, français - Pierre Constant - Le Dieu qui renverse (1 Samuel 1-7)
DESCRIPTION:SPÉCIAL FAMILLES  \n\n\n\nLe matin\, enseignement pour les enfants jusqu’à 15 ans. \n\n\n\nActivités en famille organisées durant l’après-midi. \n\n\n\n \n\n\n\nLe Dieu qui renverse : Les premiers chapitres de 1 Samuel nous présentent une période transitoire\, alors que le peuple de Dieu peine depuis longtemps à marcher fidèlement à sa suite. Dieu prend maintenant les choses en main après quelques siècles de fouillis spirituel en suscitant le prophète Samuel à l’aube du règne de David. Pour ramener le peuple vers lui\, le Seigneur renverse personnages et institutions\, enseignant ainsi à ses enfants qu’il demeure au contrôle\, tout en établissant son propre ordre du jour.  Nous étudierons comment le Dieu souverain rétablit l’accomplissement de son plan\, au prix de nombreux renversements\, à l’aube d’une nouvelle étape dans l’histoire du salut. \n\n\n\nPierre Constant est québécois\, marié à Lise depuis 44 ans déjà. Ils ont eu le bonheur d’avoir 4 enfants\, tous mariés\, adultes et engagés par la grâce de Dieu\, de même que 5 petits-enfants. Pierre est professeur de théologie du Nouveau Testament au Séminaire Baptiste à Toronto\, où il enseigne depuis 23 ans. Membre du conseil des anciens à l’Église chrétienne du Plateau à Gatineau\, prédicateur régulier et conférencier auprès des adultes\, il enseigne également à l’IBG de même qu’à d’autres écoles de formation pastorale et théologique. C’est toujours avec joie que Lise et lui respirent le bon air suisse !
URL:https://berghaus-isenfluh.ch/activites/sejour-3-special-familles/
END:VEVENT
BEGIN:VEVENT
DTSTART;TZID=Europe/Zurich:20260725T160000
DTEND;TZID=Europe/Zurich:20260731T140000
DTSTAMP:20260425T221621
CREATED:20251112T181224Z
LAST-MODIFIED:20260216T112239Z
UID:10924-1784995200-1785506400@berghaus-isenfluh.ch
SUMMARY:Séjour 4\, français - Pierre Constant - Les compagnons de Paul
DESCRIPTION:Les compagnons de Paul : Le progrès de l’Évangile s’accomplit par la grâce souveraine de Dieu dans la vie de ses enfants. L’apôtre Paul\, ouvrier infatigable\, ne travaillait toutefois pas en solitaire. Toute une équipe de collaborateurs s’est jointe à lui. Nous étudierons comment les compagnons de Paul ont été des éléments-clés dans la propagation de l’Évangile\, sachant toutefois que des dissensions ont pu apparaître au sein de l’équipe et que certains n’ont pas persévéré jusqu’au bout. Une excursion dans les Actes des apôtres et dans les lettres de Paul\, pour démontrer que l’œuvre de Dieu se réalise au sein de la faiblesse d’hommes et de femmes faillibles mais importants. \n\n\n\nPierre Constant est québécois\, marié à Lise depuis 44 ans déjà. Ils ont eu le bonheur d’avoir 4 enfants\, tous mariés\, adultes et engagés par la grâce de Dieu\, de même que 5 petits-enfants. Pierre est professeur de théologie du Nouveau Testament au Séminaire Baptiste à Toronto\, où il enseigne depuis 23 ans. Membre du conseil des anciens à l’Église chrétienne du Plateau à Gatineau\, prédicateur régulier et conférencier auprès des adultes\, il enseigne également à l’IBG de même qu’à d’autres écoles de formation pastorale et théologique. C’est toujours avec joie que Lise et lui respirent le bon air suisse !
URL:https://berghaus-isenfluh.ch/activites/sejour-4-francais/
END:VEVENT
END:VCALENDAR